BEGIN:VCALENDAR
VERSION:2.0
PRODID:-//All Saints Church, Pasadena - ECPv6.15.20//NONSGML v1.0//EN
CALSCALE:GREGORIAN
METHOD:PUBLISH
X-WR-CALNAME:All Saints Church, Pasadena
X-ORIGINAL-URL:https://allsaints-pas.org
X-WR-CALDESC:Events for All Saints Church, Pasadena
REFRESH-INTERVAL;VALUE=DURATION:PT1H
X-Robots-Tag:noindex
X-PUBLISHED-TTL:PT1H
BEGIN:VTIMEZONE
TZID:America/Los_Angeles
BEGIN:DAYLIGHT
TZOFFSETFROM:-0800
TZOFFSETTO:-0700
TZNAME:PDT
DTSTART:20250309T100000
END:DAYLIGHT
BEGIN:STANDARD
TZOFFSETFROM:-0700
TZOFFSETTO:-0800
TZNAME:PST
DTSTART:20251102T090000
END:STANDARD
BEGIN:DAYLIGHT
TZOFFSETFROM:-0800
TZOFFSETTO:-0700
TZNAME:PDT
DTSTART:20260308T100000
END:DAYLIGHT
BEGIN:STANDARD
TZOFFSETFROM:-0700
TZOFFSETTO:-0800
TZNAME:PST
DTSTART:20261101T090000
END:STANDARD
BEGIN:DAYLIGHT
TZOFFSETFROM:-0800
TZOFFSETTO:-0700
TZNAME:PDT
DTSTART:20270314T100000
END:DAYLIGHT
BEGIN:STANDARD
TZOFFSETFROM:-0700
TZOFFSETTO:-0800
TZNAME:PST
DTSTART:20271107T090000
END:STANDARD
END:VTIMEZONE
BEGIN:VEVENT
DTSTART;TZID=America/Los_Angeles:20260423T190000
DTEND;TZID=America/Los_Angeles:20260423T210000
DTSTAMP:20260422T225727
CREATED:20260123T194726Z
LAST-MODIFIED:20260123T194726Z
UID:1000158-1776970800-1776978000@allsaints-pas.org
SUMMARY:Adult Children of Alcoholics Anonymous
DESCRIPTION:Group: Outside Groups \nWelcome to our Tony A. Study Meeting of Adult Children of Alcoholics & Dysfunctional Families. This is an open meeting and we welcome you. This meeting is an hour and half in duration. We read from Tony A.’s “The Laundry List: The ACoA Experience” book on the first\, third\, and fifth Tuesdays of the month and listen to Tony A.’s Florida presentation “why 12 new steps” on the second and fourth Tuesdays of the month. Then the floor is open for sharing on the topic or your personal experience. \nWe meet to share the experiences we had as children growing up in an alcoholic or dysfunctional home. That experience infected us then\, and it affects us today. By practicing Tony A.s’ Twelve Steps and by attending meetings regularly we gain clarity about the effects of alcoholism or other family dysfunction on our lives. As ACoA members\, we identify with The Laundry List Traits. We become healthy adults and learn to live in The Solution of re-parenting ourselves\, one day at a time.  \nShare this:\n				Print (Opens in new window)\n				Print\n			\n				Email a link to a friend (Opens in new window)\n				Email\n			\n				Share on Facebook (Opens in new window)\n				Facebook\n			More\n				Share on Tumblr (Opens in new window)\n				Tumblr\n			\n				Share on Pinterest (Opens in new window)\n				Pinterest\n			\n				Share on Reddit (Opens in new window)\n				Reddit\n			\n				Share on WhatsApp (Opens in new window)\n				WhatsApp\n			\n				Share on Telegram (Opens in new window)\n				Telegram\n			Like this:Like Loading...\n\n	Related
URL:https://allsaints-pas.org/calendarevent/adult-children-of-alcoholics-anonymous-164/
LOCATION:OCC Conference Room\, 132 N Euclid Ave\, Pasadena\, CA\, United States
END:VEVENT
END:VCALENDAR