BEGIN:VCALENDAR
VERSION:2.0
PRODID:-//All Saints Church, Pasadena - ECPv6.15.20//NONSGML v1.0//EN
CALSCALE:GREGORIAN
METHOD:PUBLISH
X-ORIGINAL-URL:https://allsaints-pas.org
X-WR-CALDESC:Events for All Saints Church, Pasadena
REFRESH-INTERVAL;VALUE=DURATION:PT1H
X-Robots-Tag:noindex
X-PUBLISHED-TTL:PT1H
BEGIN:VTIMEZONE
TZID:America/Los_Angeles
BEGIN:DAYLIGHT
TZOFFSETFROM:-0800
TZOFFSETTO:-0700
TZNAME:PDT
DTSTART:20250309T100000
END:DAYLIGHT
BEGIN:STANDARD
TZOFFSETFROM:-0700
TZOFFSETTO:-0800
TZNAME:PST
DTSTART:20251102T090000
END:STANDARD
BEGIN:DAYLIGHT
TZOFFSETFROM:-0800
TZOFFSETTO:-0700
TZNAME:PDT
DTSTART:20260308T100000
END:DAYLIGHT
BEGIN:STANDARD
TZOFFSETFROM:-0700
TZOFFSETTO:-0800
TZNAME:PST
DTSTART:20261101T090000
END:STANDARD
BEGIN:DAYLIGHT
TZOFFSETFROM:-0800
TZOFFSETTO:-0700
TZNAME:PDT
DTSTART:20270314T100000
END:DAYLIGHT
BEGIN:STANDARD
TZOFFSETFROM:-0700
TZOFFSETTO:-0800
TZNAME:PST
DTSTART:20271107T090000
END:STANDARD
END:VTIMEZONE
BEGIN:VEVENT
DTSTART;TZID=America/Los_Angeles:20260422T120000
DTEND;TZID=America/Los_Angeles:20260422T130000
DTSTAMP:20260422T224258
CREATED:20260123T194725Z
LAST-MODIFIED:20260123T194725Z
UID:1000152-1776859200-1776862800@allsaints-pas.org
SUMMARY:Wednesday Noon Eucharist and Healing Service
DESCRIPTION:Group: Our Church \nJoin us for a reflective Eucharist and Healing service. All are welcome.
URL:https://allsaints-pas.org/calendarevent/wednesday-noon-eucharist-and-healing-service-102/
LOCATION:Church\, 132 N Euclid Ave\, Pasadena\, CA\, United States
END:VEVENT
BEGIN:VEVENT
DTSTART;TZID=America/Los_Angeles:20260422T180000
DTEND;TZID=America/Los_Angeles:20260422T190000
DTSTAMP:20260422T224258
CREATED:20260123T194725Z
LAST-MODIFIED:20260123T194725Z
UID:1000153-1776880800-1776884400@allsaints-pas.org
SUMMARY:Taizé Prayers Around the Cross
DESCRIPTION:Group: Worship – Taize \nPrayer in the Taizé style of worship is quiet and reflective\, deeply peaceful and joyful\, including simple songs and chants in different languages\, readings\, silences and prayers. Songs are sung many times over as a prayer of the heart and the focus of this service is on Christ and the cross\, reconciliation and prayers for the suffering throughout the world. Join us on Wednesdays at 6:10 p.m. in the Chapel.
URL:https://allsaints-pas.org/calendarevent/taize-prayers-around-the-cross-21/
LOCATION:Church\, 132 N Euclid Ave\, Pasadena\, CA\, United States
END:VEVENT
BEGIN:VEVENT
DTSTART;TZID=America/Los_Angeles:20260422T183000
DTEND;TZID=America/Los_Angeles:20260422T190000
DTSTAMP:20260422T224258
CREATED:20260123T194725Z
LAST-MODIFIED:20260123T194725Z
UID:1000154-1776882600-1776884400@allsaints-pas.org
SUMMARY:Youth Group Dinner
DESCRIPTION:Group: Youth Dinner Steering Committee \nJoin us for a time to eat\, connect\, and have fun. This free dinner is open to all 6th – 12th graders. Parents invited to join a team that provides potluck dinner once a month.
URL:https://allsaints-pas.org/calendarevent/youth-group-dinner-15/
LOCATION:Sweetland Hall\, 132 N Euclid Ave\, Pasadena\, CA\, United States
END:VEVENT
BEGIN:VEVENT
DTSTART;TZID=America/Los_Angeles:20260422T190000
DTEND;TZID=America/Los_Angeles:20260422T203000
DTSTAMP:20260422T224258
CREATED:20260123T194725Z
LAST-MODIFIED:20260123T194725Z
UID:1000155-1776884400-1776889800@allsaints-pas.org
SUMMARY:Youth Group
DESCRIPTION:Group: Current Youth Group \nJoin us for community\, games and candid conversations. Designed for 6th – 12th graders.
URL:https://allsaints-pas.org/calendarevent/youth-group-15/
LOCATION:Learning Center 6\, 132 N Euclid Ave\, Pasadena\, CA\, United States
END:VEVENT
END:VCALENDAR